BEGIN:VCALENDAR
VERSION:2.0
PRODID:-//Il Libraio//NONSGML Event Calendar//IT
BEGIN:VEVENT
UID:69e2fe6372e43
DTSTART:20260508T184500Z
SEQUENCE:0
TRANSP:OPAQUE
LOCATION:https://www.google.com/maps/dir/+Biblioteca+Comunale+di+Tregnago+V
 ia+Angelo+Borghetti+2++Tregnago+VR/
SUMMARY:Veronica Santoro presenta \"L'interprete\" a Tregnago
CLASS:PUBLIC
DESCRIPTION:Scheda dell'evento: https://www.illibraio.it/eventi/veronica-sa
 ntoro-presenta-linterprete-a-tregnago-36545/
DTSTAMP:20260418T034539Z
END:VEVENT
END:VCALENDAR