BEGIN:VCALENDAR
VERSION:2.0
PRODID:-//Il Libraio//NONSGML Event Calendar//IT
BEGIN:VEVENT
UID:69e2fe637e058
DTSTART:20260422T160000Z
SEQUENCE:0
TRANSP:OPAQUE
LOCATION:https://www.google.com/maps/dir/+Biblioteca+Ciro+Caversazzi+Via+To
 rquato+Tasso+4++Bergamo+BG/
SUMMARY:Vito Mancuso a Bergamo
CLASS:PUBLIC
DESCRIPTION:Scheda dell'evento: https://www.illibraio.it/eventi/vito-mancus
 o-a-bergamo-35960/
DTSTAMP:20260418T034539Z
END:VEVENT
END:VCALENDAR