BEGIN:VCALENDAR
VERSION:2.0
PRODID:-//Il Libraio//NONSGML Event Calendar//IT
BEGIN:VEVENT
UID:6967de850dc57
DTSTART:20260120T163000Z
SEQUENCE:0
TRANSP:OPAQUE
LOCATION:https://www.google.com/maps/dir/+Scuole+Pie+Fiorentine+Via+Alfonso
 +la+Marmora+35++Firenze+FI/
SUMMARY:Vito Mancuso a Firenze
CLASS:PUBLIC
DESCRIPTION:Scheda dell'evento: https://www.illibraio.it/eventi/vito-mancus
 o-a-firenze-34939/
DTSTAMP:20260114T182053Z
END:VEVENT
END:VCALENDAR