BEGIN:VCALENDAR
VERSION:2.0
PRODID:-//Il Libraio//NONSGML Event Calendar//IT
BEGIN:VEVENT
UID:69b4e7f44d1fb
DTSTART:20260323T200000Z
SEQUENCE:0
TRANSP:OPAQUE
LOCATION:https://www.google.com/maps/dir/+Auditorium+Rita+Levi+Montalcini+V
 ia+29+Maggio+4++MIrandola+MO/
SUMMARY:Vito Mancuso a Mirandola (MO)
CLASS:PUBLIC
DESCRIPTION:Scheda dell'evento: https://www.illibraio.it/eventi/vito-mancus
 o-a-mirandola-mo-35489/
DTSTAMP:20260314T044540Z
END:VEVENT
END:VCALENDAR