BEGIN:VCALENDAR
VERSION:2.0
PRODID:-//Il Libraio//NONSGML Event Calendar//IT
BEGIN:VEVENT
UID:692f2dfd28116
DTSTART:20251211T200000Z
SEQUENCE:0
TRANSP:OPAQUE
LOCATION:https://www.google.com/maps/dir/+Teatro+SanBortolo+Piazza+San+Bart
 olomeo+17++Rovigo+RO/
SUMMARY:Vito Mancuso a Rovigo
CLASS:PUBLIC
DESCRIPTION:Scheda dell'evento: https://www.illibraio.it/eventi/vito-mancus
 o-a-rovigo-34253/
DTSTAMP:20251202T182045Z
END:VEVENT
END:VCALENDAR