BEGIN:VCALENDAR
VERSION:2.0
PRODID:-//Il Libraio//NONSGML Event Calendar//IT
BEGIN:VEVENT
UID:69e2fe637c1a3
DTSTART:20260421T153000Z
SEQUENCE:0
TRANSP:OPAQUE
LOCATION:https://www.google.com/maps/dir/+Biblioteca+Consorziale+Di+Viterbo
 +Viale+Trento+18++Viterbo+VT/
SUMMARY:Vito Mancuso a Viterbo
CLASS:PUBLIC
DESCRIPTION:Scheda dell'evento: https://www.illibraio.it/eventi/vito-mancus
 o-a-viterbo-35042/
DTSTAMP:20260418T034539Z
END:VEVENT
END:VCALENDAR